BEGIN:VCALENDAR
VERSION:2.0
PRODID:-//CSU Töging  a. Inn - ECPv4.9.10//NONSGML v1.0//EN
CALSCALE:GREGORIAN
METHOD:PUBLISH
X-WR-CALNAME:CSU Töging  a. Inn
X-ORIGINAL-URL:https://www.csu-toeging.de
X-WR-CALDESC:Veranstaltungen im CSU Töging  a. Inn
BEGIN:VTIMEZONE
TZID:Europe/Berlin
BEGIN:DAYLIGHT
TZOFFSETFROM:+0100
TZOFFSETTO:+0200
TZNAME:CEST
DTSTART:20140330T010000
END:DAYLIGHT
BEGIN:STANDARD
TZOFFSETFROM:+0200
TZOFFSETTO:+0100
TZNAME:CET
DTSTART:20141026T010000
END:STANDARD
END:VTIMEZONE
BEGIN:VEVENT
DTSTART;TZID=Europe/Berlin:20140801T080000
DTEND;TZID=Europe/Berlin:20140805T170000
DTSTAMP:20260422T083338
CREATED:20140526T131417Z
LAST-MODIFIED:20140526T131417Z
UID:727-1406880000-1407258000@www.csu-toeging.de
SUMMARY:Volksfest Töging
DESCRIPTION:
URL:https://www.csu-toeging.de/veranstaltungen/volksfest-toeging/
LOCATION:Volksfestplatz\, Töging\, 84513\, Deutschland
END:VEVENT
END:VCALENDAR