BEGIN:VCALENDAR
VERSION:2.0
PRODID:-//CSU Töging  a. Inn - ECPv4.9.10//NONSGML v1.0//EN
CALSCALE:GREGORIAN
METHOD:PUBLISH
X-WR-CALNAME:CSU Töging  a. Inn
X-ORIGINAL-URL:https://www.csu-toeging.de
X-WR-CALDESC:Veranstaltungen im CSU Töging  a. Inn
BEGIN:VTIMEZONE
TZID:Europe/Berlin
BEGIN:DAYLIGHT
TZOFFSETFROM:+0100
TZOFFSETTO:+0200
TZNAME:CEST
DTSTART:20200329T010000
END:DAYLIGHT
BEGIN:STANDARD
TZOFFSETFROM:+0200
TZOFFSETTO:+0100
TZNAME:CET
DTSTART:20201025T010000
END:STANDARD
END:VTIMEZONE
BEGIN:VEVENT
DTSTART;VALUE=DATE:20200229
DTEND;VALUE=DATE:20200301
DTSTAMP:20260419T145428
CREATED:20200116T230912Z
LAST-MODIFIED:20200215T145731Z
UID:1979-1582934400-1583020799@www.csu-toeging.de
SUMMARY:Infostand Töging
DESCRIPTION:Infostand beim EDEKA-Markt in Töging \n
URL:https://www.csu-toeging.de/veranstaltungen/infostand-edeka-toeging/
END:VEVENT
END:VCALENDAR